BEGIN:VCALENDAR
VERSION:2.0
PRODID:Heritage Auctions - HA.com
BEGIN:VEVENT
SUMMARY:Reminder: 2026 October 8 Property of a Passionate Antique Jewelry C
 ollector Thursday Showcase Auction #23242
DESCRIPTION:This is a reminder that Heritage's 2026 October 8 Property of a
  Passionate Antique Jewelry Collector Thursday Showcase Auction #23242 hel
 d in Dallas\, TX\, will be available for bidding on or near September 24\,
  2026.\nThe Consignment Deadline for this auction is Wednesday\, August 12
 \, 2026. Contact us (http://jewelry.HA.com/c/acquisitions.zx?target=consig
 n&type=addtocalendar022709) if you are interested in information.\n\nPleas
 e use the following link if you would like to browse this auction:\nhttp:/
 /jewelry.HA.com/c/auction-home.zx?saleNo=23242&type=addtocalendar022709\n\
 n\nNote: Auction dates are subject to change without notice\, so please ch
 eck back closer to the auction date for confirmation.
UID:d73aaf123aadfb5f12568bee8e16f902@ha.com
DTSTAMP:20260423T215137
DTSTART;VALUE=DATE:20261008
DTEND;VALUE=DATE:20261009
TRANSP:TRANSPARENT
BEGIN:VALARM
TRIGGER:-P2D
DESCRIPTION:Reminder: 2026 October 8 Property of a Passionate Antique Jewel
 ry Collector Thursday Showcase Auction #23242 begins in 2 days
ACTION:DISPLAY
END:VALARM
END:VEVENT
END:VCALENDAR