BEGIN:VCALENDAR
VERSION:2.0
PRODID:Heritage Auctions - HA.com
BEGIN:VEVENT
SUMMARY:Reminder: 2026 September 28 Fall Fine Jewelry Signature® Auction #
 5585
DESCRIPTION:This is a reminder that Heritage's 2026 September 28 Fall Fine 
 Jewelry Signature® Auction #5585 held in Dallas\, TX\, will be available 
 for bidding on or near August 18\, 2026.\nThe Consignment Deadline for thi
 s auction is Friday\, June 26\, 2026. Contact us (http://jewelry.HA.com/c/
 acquisitions.zx?target=consign&type=addtocalendar022709) if you are intere
 sted in information.\n\nPlease use the following link if you would like to
  browse this auction:\nhttp://jewelry.HA.com/c/auction-home.zx?saleNo=5585
 &type=addtocalendar022709\n\n\nNote: Auction dates are subject to change w
 ithout notice\, so please check back closer to the auction date for confir
 mation.
UID:57dfde24fe2e80113ccab300542a5adc@ha.com
DTSTAMP:20260422T041211
DTSTART;VALUE=DATE:20260928
DTEND;VALUE=DATE:20260929
TRANSP:TRANSPARENT
BEGIN:VALARM
TRIGGER:-P2D
DESCRIPTION:Reminder: 2026 September 28 Fall Fine Jewelry Signature® Aucti
 on #5585 begins in 2 days
ACTION:DISPLAY
END:VALARM
END:VEVENT
END:VCALENDAR